BEGIN:VCALENDAR
VERSION:2.0
PRODID:-//Pfarreiengemeinschaft- Pfarrei St. Nikolaus Bad Abbach//NONSGML kigkonsult.se iCalcreator 2.41.92//
CALSCALE:GREGORIAN
METHOD:PUBLISH
UID:39623830-3263-4861-b363-393134343464
X-WR-CALNAME:iCagenda
X-WR-CALDESC:Event Management Extension for Joomla!
X-WR-RELCALID:3E26604A-50F4-4449-8B3E-E4F4932D05B5
X-WR-TIMEZONE:UTC
BEGIN:VTIMEZONE
TZID:UTC
END:VTIMEZONE
BEGIN:VEVENT
UID:32353431-6534-4735-b530-306632373666
DTSTAMP:20260421T135601Z
CATEGORIES:Gottesdienste
CLASS:PUBLIC
DESCRIPTION:
DTSTART:20260426T103000Z
DTEND:20260426T103000Z
GEO:00;0
LOCATION:Kirche Hl. Familie
ORGANIZER:
SEQUENCE:1
SUMMARY:Erstkommunion für die Klassen 3b\, 3c
TRANSP:OPAQUE
URL:https://pfarrei-bad-abbach.de/terminuebersicht/176-erstkommunion-fuer-d
 ie-klassen-3b-3c/2026-04-26-10-30
END:VEVENT
END:VCALENDAR
